Workbook

Sheet enfance jeunesse
E1: SIMULATEUR DE TARIFS ENFANCE JEUNESSE EDUCATION 2024 - 2025
E2: Les tarifs sont individualisés, en fonction d'un taux d'effort.
E3: indiquez votre quotient familial :--> | G3: 0
F4: Tarif Thouaréens | G4: Tarif hors commune
E5: RESTAURATION SCOLAIRE
E6: tarif unitaire d'un repas | F6: =IF($G$3*Plafond!C3<Plafond!A3,Plafond!A3,IF($G$3*Plafond!C3>Plafond!B3,Plafond!B3,$G$3*Plafond!C3)) -> 1.5 | G6: 7.48
E7: tarif unitaire d'un repas avec PAI | F7: =F6/2 -> 0.75 | G7: =G6/2 -> 3.74
E8: ACCUEIL PERISCOLAIRE
E9: tarif à la 1/2h | F9: =IF(G3*Plafond!C6<Plafond!A6,Plafond!A6,IF(G3*Plafond!C6>Plafond!B6,Plafond!B6,G3*Plafond!C6)) -> 0.38 | G9: =Plafond!B6 -> 1.5
E10: Tarif demi-heure | F10: =IF(G3*Plafond!C6<Plafond!A6,Plafond!A6,IF(G3*Plafond!C6>Plafond!B6,Plafond!B6,G3*Plafond!C6)) -> 0.38 | G10: 1.73
E11: forfait matin | F11: =IF($G$3*Plafond!C7<Plafond!A7,Plafond!A7,IF($G$3*Plafond!C7>Plafond!B7,Plafond!B7,$G$3*Plafond!C7)) -> 1.8 | G11: 3.79
E12: forfait soir | F12: =IF($G$3*Plafond!C8<Plafond!A8,Plafond!A8,IF($G$3*Plafond!C8>Plafond!B8,Plafond!B8,$G$3*Plafond!C8)) -> 2.4 | G12: 5.05
E13: ACCUEIL DE LOISIRS MERCREDIS ET VACANCES SCOLAIRES
E14: 1/2 journée + repas (mercredi) | F14: =IF($G$3*Plafond!C10<Plafond!A10,Plafond!A10,IF($G$3*Plafond!C10>Plafond!B10,Plafond!B10,$G$3*Plafond!C10)) -> 4.8 | G14: 19.55
E15: 1/2 journée sans repas (mercredi) | F15: =IF($G$3*Plafond!C11<Plafond!A11,Plafond!A11,IF($G$3*Plafond!C11>Plafond!B11,Plafond!B11,$G$3*Plafond!C11)) -> 3.1 | G15: 12.42
E16: 1/2 journée + repas PAI (mercredi) | F16: =75*F14/100 -> 3.6 | G16: =75*G14/100 -> 14.6625
E17: Journée (mercredi et vacances) | F17: =IF($G$3*Plafond!C13<Plafond!A13,Plafond!A13,IF($G$3*Plafond!C13>Plafond!B13,Plafond!B13,$G$3*Plafond!C13)) -> 6 | G17: 26.45
E18: Journée PAI (mercredi et vacances) | F18: =90*F17/100 -> 5.4 | G18: =90*G17/100 -> 23.805
E19: Navette (mercredi) | F19: 4.1 | G19: 4.1
E20: SEJOURS
E21: Journée Tarif A - enfant | F21: =IF($G$3*Plafond!C20<Plafond!A20,Plafond!A20,IF($G$3*Plafond!C20>Plafond!B20,Plafond!B20,$G$3*Plafond!C20)) -> 8.5 | G21: 39.1
E22: Journée Tarif B - enfant | F22: =IF($G$3*Plafond!C21<Plafond!A21,Plafond!A21,IF($G$3*Plafond!C21>Plafond!B21,Plafond!B21,$G$3*Plafond!C21)) -> 10.5 | G22: 47.15
E23: Journée Tarif A - ado | F23: =IF($G$3*Plafond!C22<Plafond!A22,Plafond!A22,IF($G$3*Plafond!C22>Plafond!B22,Plafond!B22,$G$3*Plafond!C22)) -> 11 | G23: 50.6
E24: Journée Tarif B - ado | F24: =IF($G$3*Plafond!C23<Plafond!A23,Plafond!A23,IF($G$3*Plafond!C23>Plafond!B23,Plafond!B23,$G$3*Plafond!C23)) -> 14 | G24: 57.5
E25: MAISON DES JEUNES
E26: une unité | F26: =IF($G$3*Plafond!C25<Plafond!A25,Plafond!A25,IF($G$3*Plafond!C25>Plafond!B25,Plafond!B25,$G$3*Plafond!C25)) -> 0.8 | G26: 3.45
E27: adhésion annuelle | F27: 39.57 | G27: 79.15

Sheet MDF
A1: GRILLE DES TARIFS 2023-2024
A2: Les tarifs sont individualisés, en fonction d'un taux d'effort,
A3: Pour connaitre vos tarifs sur les différentes structures,
A4: indiquez votre quotient familial :--> | C4: 0
B5: Tarif Thouaréens | C5: Tarif hors commune
A6: Maison des familles tarif annuel
A7: tarif A | B7: =IF($C$4*Plafond!H3<Plafond!F3,Plafond!F3,IF($C$4*Plafond!H3>Plafond!G3,Plafond!G3,$C$4*Plafond!H3)) -> 25 | C7: =Plafond!G3 -> 35
A8: tarif B | B8: =IF($C$4*Plafond!H4<Plafond!F4,Plafond!F4,IF($C$4*Plafond!H4>Plafond!G4,Plafond!G4,$C$4*Plafond!H4)) -> 40 | C8: =Plafond!G4 -> 60
A9: tarif C | B9: =IF($C$4*Plafond!H5<Plafond!F5,Plafond!F5,IF($C$4*Plafond!H5>Plafond!G5,Plafond!G5,$C$4*Plafond!H5)) -> 55 | C9: =Plafond!G5 -> 85
A10: tarif D | B10: =IF($C$4*Plafond!H6<Plafond!F6,Plafond!F6,IF($C$4*Plafond!H6>Plafond!G6,Plafond!G6,$C$4*Plafond!H6)) -> 75 | C10: =Plafond!G6 -> 105
A11: tarif E | B11: =IF($C$4*Plafond!H7<Plafond!F7,Plafond!F7,IF($C$4*Plafond!H7>Plafond!G7,Plafond!G7,$C$4*Plafond!H7)) -> 95 | C11: =Plafond!G7 -> 125
A12: tarif F | B12: =IF($C$4*Plafond!H8<Plafond!F8,Plafond!F8,IF($C$4*Plafond!H8>Plafond!G8,Plafond!G8,$C$4*Plafond!H8)) -> 110 | C12: =Plafond!G8 -> 150
A13: tarif G | B13: =IF($C$4*Plafond!H9<Plafond!F9,Plafond!F9,IF($C$4*Plafond!H9>Plafond!G9,Plafond!G9,$C$4*Plafond!H9)) -> 125 | C13: =Plafond!G9 -> 175
A14: tarif H | B14: =IF($C$4*Plafond!H10<Plafond!F10,Plafond!F10,IF($C$4*Plafond!H10>Plafond!G10,Plafond!G10,$C$4*Plafond!H10)) -> 140 | C14: =Plafond!G10 -> 205
A15: tarif I | B15: =IF($C$4*Plafond!H11<Plafond!F11,Plafond!F11,IF($C$4*Plafond!H11>Plafond!G11,Plafond!G11,$C$4*Plafond!H11)) -> 165.18 | C15: =Plafond!G11 -> 237
A16: tarif J | B16: =IF($C$4*Plafond!H12<Plafond!F12,Plafond!F12,IF($C$4*Plafond!H12>Plafond!G12,Plafond!G12,$C$4*Plafond!H12)) -> 180.58 | C16: =Plafond!G12 -> 262.66

Sheet Plafond
A1: plancher | B1: plafond | C1: taux d'effort (TE) | F1: plancher | G1: plafond | H1: taux d'effort (TE)
A3: 1.5 | B3: 6.5 | C3: 0.00313 | F3: 25 | G3: 35 | H3: 0.022
A4: 0.75 | B4: 3.25 | C4: 0.00313 | F4: 40 | G4: 60 | H4: 0.036
F5: 55 | G5: 85 | H5: 0.05
A6: 0.38 | B6: 1.5 | C6: 0.00075 | F6: 75 | G6: 105 | H6: 0.064
A7: 1.8 | B7: 3.5 | C7: 0.00197 | F7: 95 | G7: 125 | H7: 0.078
A8: 2.4 | B8: 4.52 | C8: 0.00262 | F8: 110 | G8: 150 | H8: 0.092
F9: 125 | G9: 175 | H9: 0.106
A10: 4.8 | B10: 17 | C10: 0.00875 | F10: 140 | G10: 205 | H10: 0.12
A11: 3.1 | B11: 10.8 | C11: 0.00565 | F11: 165.18 | G11: 237 | H11: 0.13817
A12: 3.6 | B12: 12.75 | C12: 0.00875 | F12: 180.58 | G12: 262.66 | H12: 0.15261
A13: 6 | B13: 23 | C13: 0.012
A14: 5.4 | B14: 20.7 | C14: 0.012
A15: non soumis au taux d'effort
A17: 6 | B17: 23 | C17: 0.012
A18: 5.4 | B18: 20.7 | C18: 0.012
A20: 8.5 | B20: 34 | C20: 0.017
A21: 10.5 | B21: 41 | C21: 0.021
A22: 11 | B22: 44 | C22: 0.022
A23: 14 | B23: 50 | C23: 0.0255
A25: 0.8 | B25: 3 | C25: 0.0015
A26: non soumis au taux d'effort
